BEGIN:VCALENDAR
VERSION:2.0
PRODID:-// - ECPv6.15.18//NONSGML v1.0//EN
CALSCALE:GREGORIAN
METHOD:PUBLISH
X-ORIGINAL-URL:https://trumanbooks.co.uk
X-WR-CALDESC:Events for 
REFRESH-INTERVAL;VALUE=DURATION:PT1H
X-Robots-Tag:noindex
X-PUBLISHED-TTL:PT1H
BEGIN:VTIMEZONE
TZID:Europe/London
BEGIN:DAYLIGHT
TZOFFSETFROM:+0000
TZOFFSETTO:+0100
TZNAME:BST
DTSTART:20250330T010000
END:DAYLIGHT
BEGIN:STANDARD
TZOFFSETFROM:+0100
TZOFFSETTO:+0000
TZNAME:GMT
DTSTART:20251026T010000
END:STANDARD
BEGIN:DAYLIGHT
TZOFFSETFROM:+0000
TZOFFSETTO:+0100
TZNAME:BST
DTSTART:20260329T010000
END:DAYLIGHT
BEGIN:STANDARD
TZOFFSETFROM:+0100
TZOFFSETTO:+0000
TZNAME:GMT
DTSTART:20261025T010000
END:STANDARD
BEGIN:DAYLIGHT
TZOFFSETFROM:+0000
TZOFFSETTO:+0100
TZNAME:BST
DTSTART:20270328T010000
END:DAYLIGHT
BEGIN:STANDARD
TZOFFSETFROM:+0100
TZOFFSETTO:+0000
TZNAME:GMT
DTSTART:20271031T010000
END:STANDARD
END:VTIMEZONE
BEGIN:VEVENT
DTSTART;TZID=Europe/London:20260430T183000
DTEND;TZID=Europe/London:20260430T203000
DTSTAMP:20260421T100832
CREATED:20260309T091251Z
LAST-MODIFIED:20260329T132237Z
UID:10002879-1777573800-1777581000@trumanbooks.co.uk
SUMMARY:A Tactile Creative Writing Workshop
DESCRIPTION:Join writer and facilitator Karen Tobias-Green for a fun\, informal but meaningful dip into the tactile\, sensory world of creative writing.  \n\n\n\nExplore poetry and prose and discover the pleasure of spontaneous creative writing from text and visual prompts in a supportive\, friendly space. Experiment with colour\, sound\, objects and play.  Perfect for current writers looking for inspiration\, beginners wanting a way in to writing and those interested in using language to boost their creative practice. \n\n\n\n\n\n\n\nThis workshop explores the tactile and aesthetic qualities of writing; making connections between sensory experiences and word play and between visual and textual language. It’s fun\, practical\, hands on and responsive\, and aims to use all of your five senses. \n\n\n\nMaterials may include bric-a-brac and haberdashery\, plastic toys\, pom-poms \, string\, foam squares\, labels\, ribbon\, wood\, denim\, felt patches\, leather\, paper\, sweet wrappers\, photos\, postcards\, event tickets\, extracts of poems\, pencils… the list goes on… \n\n\n\nAbout Karen \n\n\n\nDr Karen Tobias-Green is a former lecturer in creative writing\, research skills and critical thinking. Karen validated and delivered Leeds Arts University’s first ever Creative Writing degree course. She is also a published poet\, fiction writer and art reviewer.
URL:https://trumanbooks.co.uk/event/tactile-writing-workshop
LOCATION:Truman Books\, 95 Town Street\, Farsley\, Leeds\, LS28 5HX
ATTACH;FMTTYPE=image/jpeg:https://trumanbooks.co.uk/wp-content/uploads/2026/03/Tactile-Writing-Workshop.jpg
END:VEVENT
END:VCALENDAR