BEGIN:VCALENDAR
VERSION:2.0
PRODID:-// - ECPv6.15.18//NONSGML v1.0//EN
CALSCALE:GREGORIAN
METHOD:PUBLISH
X-ORIGINAL-URL:https://trumanbooks.co.uk
X-WR-CALDESC:Events for 
REFRESH-INTERVAL;VALUE=DURATION:PT1H
X-Robots-Tag:noindex
X-PUBLISHED-TTL:PT1H
BEGIN:VTIMEZONE
TZID:Europe/London
BEGIN:DAYLIGHT
TZOFFSETFROM:+0000
TZOFFSETTO:+0100
TZNAME:BST
DTSTART:20250330T010000
END:DAYLIGHT
BEGIN:STANDARD
TZOFFSETFROM:+0100
TZOFFSETTO:+0000
TZNAME:GMT
DTSTART:20251026T010000
END:STANDARD
BEGIN:DAYLIGHT
TZOFFSETFROM:+0000
TZOFFSETTO:+0100
TZNAME:BST
DTSTART:20260329T010000
END:DAYLIGHT
BEGIN:STANDARD
TZOFFSETFROM:+0100
TZOFFSETTO:+0000
TZNAME:GMT
DTSTART:20261025T010000
END:STANDARD
BEGIN:DAYLIGHT
TZOFFSETFROM:+0000
TZOFFSETTO:+0100
TZNAME:BST
DTSTART:20270328T010000
END:DAYLIGHT
BEGIN:STANDARD
TZOFFSETFROM:+0100
TZOFFSETTO:+0000
TZNAME:GMT
DTSTART:20271031T010000
END:STANDARD
END:VTIMEZONE
BEGIN:VEVENT
DTSTART;TZID=Europe/London:20260414T200000
DTEND;TZID=Europe/London:20260414T220000
DTSTAMP:20260422T000328
CREATED:20260129T123849Z
LAST-MODIFIED:20260129T124906Z
UID:10002872-1776196800-1776204000@trumanbooks.co.uk
SUMMARY:An Evening with Clare Mackintosh
DESCRIPTION:Bestselling author Clare Mackintosh joins us to launch her latest gripping psychological thriller\, It’s Not What You Think. \n\n\n\n‘A nail-biter of a thriller‘ – SHARI LAPENA \n\n\n\nDrawing on her experience as a former police officer\, It’s Not What You Think is a gripping domestic drama. Clare will be giving us an insight into the inspiration behind her fast-paced plots\, brilliant characters and the big twists her books deliver.    \n\n\n\n‘I always see twists coming – but not this time’ – LEE CHILD \n\n\n\n\n\n\n\nFollowing the interview\, Clare will be signing copies of her books. \n\n\n\n‘This book is so addictive it should come with a warning’ – ALICE FEENEY \n\n\n\nClare spent twelve years in the UK police force\, including time in CID\, leaving to work as a freelance journalist. She now writes full time. Clare’s debut I Let You Go was the fastest-selling title by a new crime writer in 2015 and won the Theakston Old Peculier Crime Novel of the Year. \n\n\n\nClare’s other books include Other People’s Houses\, Game of Lies and Hostage. \n\n\n\nAbout the Book \n\n\n\nPublishing 26th March 2026 \n\n\n\nYOU THINK YOU KNOW THE PEOPLE YOU LOVE \n\n\n\nNadeeka is certain Jamie is having an affair. She knows the tell-tale signs. She’s been here before. \n\n\n\nYOU THINK YOU KNOW WHO YOU CAN TRUST \n\n\n\nWhen Jamie claims to be at work late\, she knows he’s lying. He’s with another woman\, and she’s determined to catch him in the act. \n\n\n\nYOU THINK YOU KNOW HOW THE STORY ENDSBut when Nadeeka arrives home to confront him\, Jamie can’t explain himself. The house has become a crime scene… Jamie is dead. \n\n\n\nDoors at 7pm
URL:https://trumanbooks.co.uk/event/an-evening-with-clare-mackintosh
LOCATION:Old Woollen\, Sunnybank Mills\, 83-85 Town Street\, Farsley\, LS28 5UJ\, United Kingdom
ATTACH;FMTTYPE=image/png:https://trumanbooks.co.uk/wp-content/uploads/2026/01/Clare-Mackintosh-Tile.png
END:VEVENT
END:VCALENDAR