BEGIN:VCALENDAR
VERSION:2.0
PRODID:-// - ECPv6.15.18//NONSGML v1.0//EN
CALSCALE:GREGORIAN
METHOD:PUBLISH
X-ORIGINAL-URL:https://trumanbooks.co.uk
X-WR-CALDESC:Events for 
REFRESH-INTERVAL;VALUE=DURATION:PT1H
X-Robots-Tag:noindex
X-PUBLISHED-TTL:PT1H
BEGIN:VTIMEZONE
TZID:Europe/London
BEGIN:DAYLIGHT
TZOFFSETFROM:+0000
TZOFFSETTO:+0100
TZNAME:BST
DTSTART:20250330T010000
END:DAYLIGHT
BEGIN:STANDARD
TZOFFSETFROM:+0100
TZOFFSETTO:+0000
TZNAME:GMT
DTSTART:20251026T010000
END:STANDARD
BEGIN:DAYLIGHT
TZOFFSETFROM:+0000
TZOFFSETTO:+0100
TZNAME:BST
DTSTART:20260329T010000
END:DAYLIGHT
BEGIN:STANDARD
TZOFFSETFROM:+0100
TZOFFSETTO:+0000
TZNAME:GMT
DTSTART:20261025T010000
END:STANDARD
BEGIN:DAYLIGHT
TZOFFSETFROM:+0000
TZOFFSETTO:+0100
TZNAME:BST
DTSTART:20270328T010000
END:DAYLIGHT
BEGIN:STANDARD
TZOFFSETFROM:+0100
TZOFFSETTO:+0000
TZNAME:GMT
DTSTART:20271031T010000
END:STANDARD
END:VTIMEZONE
BEGIN:VEVENT
DTSTART;TZID=Europe/London:20260324T183000
DTEND;TZID=Europe/London:20260324T200000
DTSTAMP:20260419T151513
CREATED:20260227T145941Z
LAST-MODIFIED:20260227T150038Z
UID:10002877-1774377000-1774382400@trumanbooks.co.uk
SUMMARY:Truman’s Book Club Social – Tues 24th March
DESCRIPTION:At Truman’s Book Club Social in March\, hosted at Cargo Wines here in Farsley\, we’ll be discussing the book Convenience Store Woman by Sayaka Murata. \n\n\n\nA ticket to attend Truman’s Book Club Social is £18. This includes the book (which will be available for you to collect in the shop once you’ve made a booking online) and your first drink on the evening (beer\, wine or soft drink). If you already have the book\, you can select a ticket that will include a £10 Truman’s Gift Voucher instead of a book. \n\n\n\n\n\n\n\nAbout the Book \n\n\n\n‘Exhilaratingly weird and funny… Unsettling and totally unpredictable – my copy is now heavily underlined’ – Sally Rooney \n\n\n\nMeet Keiko. She’s 36 years old\, has never had a boyfriend\, and she’s been working in the same supermarket for eighteen years. \n\n\n\nKeiko’s family wishes she’d get a proper job. Her friends wonder why she won’t get married. But Keiko knows what makes her happy\, and she’s not going to let anyone come between her and her convenience store… \n\n\n\nA cult hit around the world\, Convenience Store Woman is both a feminist rallying cry and a must-read oddball comedy. \n\n\n\n‘A gem of a book. Quirky\, deadpan\, poignant and quietly profound’ – Ruth Ozeki \n\n\n\nWhen & Where? \n\n\n\nThis Truman’s Book Club Social will take place on Tuesday 24th March\, 6.30pm (for a 7pm start)\, at Cargo Wines\, Sunny Bank Mills. One of the benefits of us hosting our Book Club in a Wine Bar means that when the book chat is done\, if you wish\, you’re free to stay on to continue to enjoy the company and the conversation\, and maybe another drink or two. \n\n\n\nWe’d like a relaxed evening of booky chat\, so if the thought of sitting round in a big circle feels a little intimidating\, this is the Book Club for you. Our aim is to have a more informal feel\, with smaller groups sat chatting around tables. We can help you find a seat and make sure everyone feels comfortable. \n\n\n\nWe’re thinking an hour of chat about the month’s book (and the topics and experiences it leads to). In the future\, we’d love to be able to welcome guest authors to join us to discuss their books. \n\n\n\nHope to see you there!
URL:https://trumanbooks.co.uk/event/trumans-book-club-social-tues-24th-march
LOCATION:Cargo Wines\, Twistings Gallery\, Sunny Bank Mill\, 83-85 Town Street\, Farsley\, Leeds\, LS28 5UJ\, United Kingdom
ATTACH;FMTTYPE=image/jpeg:https://trumanbooks.co.uk/wp-content/uploads/2026/02/Convenience-Store-Woman.jpg
END:VEVENT
END:VCALENDAR