BEGIN:VCALENDAR
VERSION:2.0
PRODID:-// - ECPv6.15.18//NONSGML v1.0//EN
CALSCALE:GREGORIAN
METHOD:PUBLISH
X-ORIGINAL-URL:https://trumanbooks.co.uk
X-WR-CALDESC:Events for 
REFRESH-INTERVAL;VALUE=DURATION:PT1H
X-Robots-Tag:noindex
X-PUBLISHED-TTL:PT1H
BEGIN:VTIMEZONE
TZID:Europe/London
BEGIN:DAYLIGHT
TZOFFSETFROM:+0000
TZOFFSETTO:+0100
TZNAME:BST
DTSTART:20250330T010000
END:DAYLIGHT
BEGIN:STANDARD
TZOFFSETFROM:+0100
TZOFFSETTO:+0000
TZNAME:GMT
DTSTART:20251026T010000
END:STANDARD
BEGIN:DAYLIGHT
TZOFFSETFROM:+0000
TZOFFSETTO:+0100
TZNAME:BST
DTSTART:20260329T010000
END:DAYLIGHT
BEGIN:STANDARD
TZOFFSETFROM:+0100
TZOFFSETTO:+0000
TZNAME:GMT
DTSTART:20261025T010000
END:STANDARD
BEGIN:DAYLIGHT
TZOFFSETFROM:+0000
TZOFFSETTO:+0100
TZNAME:BST
DTSTART:20270328T010000
END:DAYLIGHT
BEGIN:STANDARD
TZOFFSETFROM:+0100
TZOFFSETTO:+0000
TZNAME:GMT
DTSTART:20271031T010000
END:STANDARD
END:VTIMEZONE
BEGIN:VEVENT
DTSTART;TZID=Europe/London:20260310T200000
DTEND;TZID=Europe/London:20260310T220000
DTSTAMP:20260419T151518
CREATED:20251215T154456Z
LAST-MODIFIED:20251215T180528Z
UID:10002868-1773172800-1773180000@trumanbooks.co.uk
SUMMARY:An Evening with Jennie Godfrey
DESCRIPTION:Jennie Godfrey’s debut book The List of Suspicious Things found itself on the Truman Books Top 10 Bestseller List\, month after month\, so we know there are going to plenty of excited readers (including us)\, delighted to hear about her return! \n\n\n\nBestselling author Jennie will join us at The Old Woollen here in Farsley in March to celebrate the launch of The Barbecue at No.9\, another startling novel of community and family in the 1980s. \n\n\n\n\n\n\n\nAbout the book \n\n\n\nIt’s the summer of 1985 and the residents of Delmont Close are preparing a neighbourhood barbecue to watch the biggest music event in history: Live Aid. A day like no other that will end having reached millions and changing the lives of all who attend.House-proud Lydia Gordon\, whose idols are Princess Di and Delia Smith\, is determined to put on a show that will impress everyone – with her posh garden and state-of-the-art television\, and her sweet husband and two children\, Hanna and David.But as the guests flood into number nine\, so do all of the secrets that have been kept in the close.Rita\, a new neighbour from Australia\, is hoping for a fresh start but harbours a shocking event in her past; Steve\, a young Falklands veteran\, battles his own demons; and Mr Wilson is surely too good-looking to ever be trusted.But as the hours count down to the last performance of the night\, it’s Lydia who faces the heart-breaking truth that her immaculate home and flawless family might not be so perfect after all. \n\n\n\n“From the very first page I was in awe. I LOVED it.”– Marian Keyes“A beautiful story about secrets\, lies and community.” – Graham Norton“A delicious and irresistible story. An utter treat.” – Rachel Joyce“Gripping\, suspenseful\, moving\, perfectly constructed.” – Sophie Hannah \n\n\n\nAbout the author \n\n\n\nJennie Godfrey was raised in West Yorkshire in a mill-working family and her debut novel\, The List of Suspicious Things\, was inspired by her childhood there in the 1970s. In 2020\, Jennie gave up her corporate career to build a life around books. She is now a writer and part-time bookseller who lives\, and writes\, in the Somerset countryside.
URL:https://trumanbooks.co.uk/event/an-evening-with-jennie-godfrey-2
LOCATION:Old Woollen\, Sunnybank Mills\, 83-85 Town Street\, Farsley\, LS28 5UJ\, United Kingdom
ATTACH;FMTTYPE=image/png:https://trumanbooks.co.uk/wp-content/uploads/2025/12/Jennie-Godfrey-tile.png
END:VEVENT
END:VCALENDAR