BEGIN:VCALENDAR
VERSION:2.0
PRODID:-// - ECPv6.15.18//NONSGML v1.0//EN
CALSCALE:GREGORIAN
METHOD:PUBLISH
X-ORIGINAL-URL:https://trumanbooks.co.uk
X-WR-CALDESC:Events for 
REFRESH-INTERVAL;VALUE=DURATION:PT1H
X-Robots-Tag:noindex
X-PUBLISHED-TTL:PT1H
BEGIN:VTIMEZONE
TZID:Europe/London
BEGIN:DAYLIGHT
TZOFFSETFROM:+0000
TZOFFSETTO:+0100
TZNAME:BST
DTSTART:20250330T010000
END:DAYLIGHT
BEGIN:STANDARD
TZOFFSETFROM:+0100
TZOFFSETTO:+0000
TZNAME:GMT
DTSTART:20251026T010000
END:STANDARD
BEGIN:DAYLIGHT
TZOFFSETFROM:+0000
TZOFFSETTO:+0100
TZNAME:BST
DTSTART:20260329T010000
END:DAYLIGHT
BEGIN:STANDARD
TZOFFSETFROM:+0100
TZOFFSETTO:+0000
TZNAME:GMT
DTSTART:20261025T010000
END:STANDARD
BEGIN:DAYLIGHT
TZOFFSETFROM:+0000
TZOFFSETTO:+0100
TZNAME:BST
DTSTART:20270328T010000
END:DAYLIGHT
BEGIN:STANDARD
TZOFFSETFROM:+0100
TZOFFSETTO:+0000
TZNAME:GMT
DTSTART:20271031T010000
END:STANDARD
END:VTIMEZONE
BEGIN:VEVENT
DTSTART;TZID=Europe/London:20260226T160000
DTEND;TZID=Europe/London:20260226T173000
DTSTAMP:20260419T151521
CREATED:20260116T152413Z
LAST-MODIFIED:20260116T152751Z
UID:10002869-1772121600-1772127000@trumanbooks.co.uk
SUMMARY:Book Signing with UK Children's Laureate - Frank Cottrell-Boyce
DESCRIPTION:We are thrilled to announce that in the lead up to World Book Day\, we will be welcoming Children’s Laureate\, bestselling author and award-winning screenwriter\, Frank Cottrell-Boyce\, to the bookshop. \n\n\n\nFrank will be signing his latest paperback book\, The Blockbusters! \n\n\n\nThis is a fantastic opportunity for children (and adults!) to meet a bestselling author and receive a copy of Frank’s book\, signed by the man himself! \n\n\n\nThis event will be in the bookshop. There will be a queue system to meet Frank (this may include waiting outside so please dress for the weather.) All children must be accompanied by an adult. One ticket includes one copy of the book but will allow the family entrance. Please buy two tickets if you require two books\, and so on… If you cannot make the event\, we will get the book signed for you\, for collection at a later date. \n\n\n\n\n\n\n\nAbout the Book \n\n\n\nThe Blockbusters is a hilarious middle-grade adventure which offers a behind-the-scenes glimpse into the making of a major blockbuster movie. The story follows young Rafa\, who comes across a film set and swaps places with a famous actor. So begins a high-octane adventure involving Hollywood glamour\, mixed up phones and a missing brother… \n\n\n\nWith authentic insight into the chaos and excitement of film-making\, and brimming with the writer’s trademark wit and enchanting storytelling\, this is the perfect book for every reader aged 8 – 12. \n\n\n\nAwards \n\n\n\nFrank Cottrell-Boyce is a multi-award- winning children’s book author. His debut children’s novel Millions won the prestigious CILIP Carnegie Medal. \n\n\n\nHis other books include Cosmic\, Framed\, The Astounding Broccoli Boy\, Sputnik’s Guide to Life on Earth\, Runaway Robot\, Noah’s Gold and The Wonder Brothers. He has enjoyed a long-time collaboration with award-winning illustrator Steven Lenton. His books have also been shortlisted for a multitude of prizes\, including the Guardian Children’s Fiction Prize\, the Whitbread Children’s Fiction Award\, The Roald Dahl Funny Prize and the Blue Peter Book Award. \n\n\n\nCome along to meet Frank in the bookshop and get your copy of Blockbusters! personally signed.
URL:https://trumanbooks.co.uk/event/book-signing-with-frank-cottrell-boyce
LOCATION:Truman Books\, 95 Town Street\, Farsley\, Leeds\, LS28 5HX
ATTACH;FMTTYPE=image/jpeg:https://trumanbooks.co.uk/wp-content/uploads/2026/01/Frank-Cottrell-Boyce-Event-Graphic.jpg
END:VEVENT
END:VCALENDAR