BEGIN:VCALENDAR
VERSION:2.0
PRODID:-// - ECPv6.15.18//NONSGML v1.0//EN
CALSCALE:GREGORIAN
METHOD:PUBLISH
X-ORIGINAL-URL:https://trumanbooks.co.uk
X-WR-CALDESC:Events for 
REFRESH-INTERVAL;VALUE=DURATION:PT1H
X-Robots-Tag:noindex
X-PUBLISHED-TTL:PT1H
BEGIN:VTIMEZONE
TZID:Europe/London
BEGIN:DAYLIGHT
TZOFFSETFROM:+0000
TZOFFSETTO:+0100
TZNAME:BST
DTSTART:20250330T010000
END:DAYLIGHT
BEGIN:STANDARD
TZOFFSETFROM:+0100
TZOFFSETTO:+0000
TZNAME:GMT
DTSTART:20251026T010000
END:STANDARD
BEGIN:DAYLIGHT
TZOFFSETFROM:+0000
TZOFFSETTO:+0100
TZNAME:BST
DTSTART:20260329T010000
END:DAYLIGHT
BEGIN:STANDARD
TZOFFSETFROM:+0100
TZOFFSETTO:+0000
TZNAME:GMT
DTSTART:20261025T010000
END:STANDARD
BEGIN:DAYLIGHT
TZOFFSETFROM:+0000
TZOFFSETTO:+0100
TZNAME:BST
DTSTART:20270328T010000
END:DAYLIGHT
BEGIN:STANDARD
TZOFFSETFROM:+0100
TZOFFSETTO:+0000
TZNAME:GMT
DTSTART:20271031T010000
END:STANDARD
END:VTIMEZONE
BEGIN:VEVENT
DTSTART;TZID=Europe/London:20260114T183000
DTEND;TZID=Europe/London:20260114T200000
DTSTAMP:20260422T015120
CREATED:20251113T130634Z
LAST-MODIFIED:20251217T095617Z
UID:10002865-1768415400-1768420800@trumanbooks.co.uk
SUMMARY:Truman’s Book Club Social – Wed 14th January
DESCRIPTION:At Truman’s Book Club Social in January\, hosted at Cargo Wines here in Farsley\, we’ll be discussing the book The Lamb by Lucy Rose. \n\n\n\nA ticket to attend Truman’s Book Club Social is £18. This includes the book (that will be available for you to collect in the shop once you’ve made a booking online) and your first drink on the evening (beer\, wine or soft drink). If you already have the book\, you can select a ticket that will include a £10 Truman’s Gift Voucher instead of a book. \n\n\n\n\n\n\n\nAbout the Book \n\n\n\nA FOLK TALE. A HORROR STORY. A LOVE STORY. AN ENCHANTMENT.\n\n\n\nMargot and Mama have lived by the forest since Margot can remember. When Margot isn’t at school\, they spend quiet days together in their cottage\, waiting for strangers to knock on their door. Strays\, Mama calls them. Mama loves the strays. She feeds them wine\, keeps them warm. Then she satisfies her burning appetite by picking apart their bodies. \n\n\n\nBut Mama’s want is stronger than her hunger sometimes\, and when a white-toothed stray named Eden turns up in the heart of a snowstorm\, little Margot must confront the shifting dynamics of her family\, untangle her own desires and make a bid for freedom. \n\n\n\nWith this tender coming-of-age tale\, debut novelist Lucy Rose explores how women swallow their anger\, desire and animal instincts – and wrings the relationship between mother and daughter until blood drips from it. \n\n\n\nWhen & Where? \n\n\n\nThis Truman’s Book Club Social will take place on Wednesday 14th January\, 6.30pm (for a 7pm start)\, at Cargo Wines\, Sunny Bank Mills. One of the benefits of us hosting our Book Club in a Wine Bar means that when the book chat is done\, if you wish\, you’re free to stay on to continue to enjoy the company and the conversation\, and maybe another drink or two. \n\n\n\nWe’d like a relaxed evening of booky chat\, so if the thought of sitting round in a big circle feels a little intimidating\, this is the Book Club for you. Our aim is to have a more informal feel\, with smaller groups sat chatting around tables. We can help you find a seat and make sure everyone feels comfortable. \n\n\n\nWe’re thinking an hour of chat about the month’s book (and the topics and experiences it leads to). In the future\, we’d love to be able to welcome guest authors to join us to discuss their books. \n\n\n\nHope to see you there!
URL:https://trumanbooks.co.uk/event/trumans-book-club-social-wed-14th-january
LOCATION:Cargo Wine Bar\, Twistings Gallery\, Sunny Bank Mill\, 83-85 Town Street\, Farsley\, Leeds\, LS28 5UJ
ATTACH;FMTTYPE=image/jpeg:https://trumanbooks.co.uk/wp-content/uploads/2025/11/The-Lamb.jpg
END:VEVENT
END:VCALENDAR