BEGIN:VCALENDAR
VERSION:2.0
PRODID:-// - ECPv6.15.18//NONSGML v1.0//EN
CALSCALE:GREGORIAN
METHOD:PUBLISH
X-ORIGINAL-URL:https://trumanbooks.co.uk
X-WR-CALDESC:Events for 
REFRESH-INTERVAL;VALUE=DURATION:PT1H
X-Robots-Tag:noindex
X-PUBLISHED-TTL:PT1H
BEGIN:VTIMEZONE
TZID:Europe/London
BEGIN:DAYLIGHT
TZOFFSETFROM:+0000
TZOFFSETTO:+0100
TZNAME:BST
DTSTART:20240331T010000
END:DAYLIGHT
BEGIN:STANDARD
TZOFFSETFROM:+0100
TZOFFSETTO:+0000
TZNAME:GMT
DTSTART:20241027T010000
END:STANDARD
BEGIN:DAYLIGHT
TZOFFSETFROM:+0000
TZOFFSETTO:+0100
TZNAME:BST
DTSTART:20250330T010000
END:DAYLIGHT
BEGIN:STANDARD
TZOFFSETFROM:+0100
TZOFFSETTO:+0000
TZNAME:GMT
DTSTART:20251026T010000
END:STANDARD
BEGIN:DAYLIGHT
TZOFFSETFROM:+0000
TZOFFSETTO:+0100
TZNAME:BST
DTSTART:20260329T010000
END:DAYLIGHT
BEGIN:STANDARD
TZOFFSETFROM:+0100
TZOFFSETTO:+0000
TZNAME:GMT
DTSTART:20261025T010000
END:STANDARD
END:VTIMEZONE
BEGIN:VEVENT
DTSTART;TZID=Europe/London:20251202T183000
DTEND;TZID=Europe/London:20251202T210000
DTSTAMP:20260425T162455
CREATED:20251103T114113Z
LAST-MODIFIED:20251103T114152Z
UID:10002862-1764700200-1764709200@trumanbooks.co.uk
SUMMARY:A Killer Evening for Christmas with Sarah Dunnakey
DESCRIPTION:Armchair detectives! Join author & TV quiz question setter Sarah Dunnakey for the perfect pre-Christmas treat. \n\n\n\nThis December\, head to the bookshop to find out more about The 12 Murders of Christmas – the ultimate killer puzzle book where Richard Osman meets Murdle.  \n\n\n\n\n\n\n\nSarah will give us an insight into how she put together this exciting book that features twelve festive tales – with a twist. At the end of each story\, readers receive a clue – with the aim of solving a mystery in time for Christmas. We invite you to find out more about these twelve puzzling whodunnits that will test even the most seasoned of sleuths and serve as fascinating reading for the whole family. \n\n\n\nWhen she’s not writing fiction\, Sarah writes and verifies questions for a variety of TV quiz shows including Mastermind\, University Challenge and Pointless – so plenty to chat about there too! \n\n\n\nSarah has not only been shortlisted\, but has won several short story competitions\, and has been published in anthologies and broadcast on Radio 4.
URL:https://trumanbooks.co.uk/event/killer-christmas
LOCATION:Truman Books\, 95 Town Street\, Farsley\, Leeds\, LS28 5HX
ATTACH;FMTTYPE=image/png:https://trumanbooks.co.uk/wp-content/uploads/2025/10/Sarah-Dunnakey.png
END:VEVENT
END:VCALENDAR